BEGIN:VCALENDAR
VERSION:2.0
PRODID:-//Cool Mum Super Dad - ECPv5.14.1//NONSGML v1.0//EN
CALSCALE:GREGORIAN
METHOD:PUBLISH
X-WR-CALNAME:Cool Mum Super Dad
X-ORIGINAL-URL:https://coolmumsuperdad.com
X-WR-CALDESC:Events for Cool Mum Super Dad
BEGIN:VTIMEZONE
TZID:Asia/Kuala_Lumpur
BEGIN:STANDARD
TZOFFSETFROM:+0800
TZOFFSETTO:+0800
TZNAME:+08
DTSTART:20210101T000000
END:STANDARD
END:VTIMEZONE
BEGIN:VEVENT
DTSTART;TZID=Asia/Kuala_Lumpur:20210614T210000
DTEND;TZID=Asia/Kuala_Lumpur:20210619T220000
DTSTAMP:20260426T111502
CREATED:20210624T070610Z
LAST-MODIFIED:20210624T071952Z
UID:7982-1623704400-1624140000@coolmumsuperdad.com
SUMMARY:Parenting In The 21st Century
DESCRIPTION:
URL:https://coolmumsuperdad.com/event/kaseh-talk-unirazak-parenting-in-the-21st-century/
CATEGORIES:Zoominar
END:VEVENT
BEGIN:VEVENT
DTSTART;TZID=Asia/Kuala_Lumpur:20210619T143000
DTEND;TZID=Asia/Kuala_Lumpur:20210619T160000
DTSTAMP:20260426T111502
CREATED:20210101T150057Z
LAST-MODIFIED:20210620T130122Z
UID:7858-1624113000-1624118400@coolmumsuperdad.com
SUMMARY:Berjayakah Bapa Memimpin Keluarga?
DESCRIPTION:  \nTonton rakaman program ini:\nhttps://youtu.be/HUTydlIFqtk \n~~~~ \nCool Mum Super Dad Consultancy brings you\nZoominar of The Month (June 2021) \nTopik: Berjayakah Bapa Memimpin Keluarga? \nSesi PERCUMA. \nDaftar di sini: \n~~~~ \nSabtu\, 19hb Jun 2021\n2.30pm – 4pm \n~~~~ \nFokus: \n– apakah ertinya bapa sebagai pemimpin?\n– tips meningkatkan ketrampilan bapa sebagai pemimpin\n– menangani cabaran bapa masakini \n~~~~ \nPanelis: Tuan Hasri Harun\nPertubuhan Pemberdayaan Bapa Penyayang\nPanelis: Tuan Zaid Mohamad\nParental Coach\, Smart Parents Network \n~~~~ \nModerator: \nAhmad Fakhri Hamzah & Jamilah Samian\nCool Mum Super Dad Consultancy\nwww.coolmumsuperdad.com
URL:https://coolmumsuperdad.com/event/berjayakah-bapa-memimpin-keluarga/
CATEGORIES:Zoominar
END:VEVENT
END:VCALENDAR