BEGIN:VCALENDAR
VERSION:2.0
PRODID:-//Cool Mum Super Dad - ECPv5.14.1//NONSGML v1.0//EN
CALSCALE:GREGORIAN
METHOD:PUBLISH
X-WR-CALNAME:Cool Mum Super Dad
X-ORIGINAL-URL:https://coolmumsuperdad.com
X-WR-CALDESC:Events for Cool Mum Super Dad
BEGIN:VTIMEZONE
TZID:Asia/Kuala_Lumpur
BEGIN:STANDARD
TZOFFSETFROM:+0800
TZOFFSETTO:+0800
TZNAME:+08
DTSTART:20210101T000000
END:STANDARD
END:VTIMEZONE
BEGIN:VEVENT
DTSTART;TZID=Asia/Kuala_Lumpur:20211020T110000
DTEND;TZID=Asia/Kuala_Lumpur:20211020T121500
DTSTAMP:20260426T052016
CREATED:20210101T150546Z
LAST-MODIFIED:20210923T123918Z
UID:7866-1634727600-1634732100@coolmumsuperdad.com
SUMMARY:1-2-3 Magic: An Alternative Way To Discipline Your Child
DESCRIPTION:Title: 1-2-3 MAGIC: AN ALTERNATIVE WAY TO DISCIPLINE YOUR CHILD \nWednesday\, 20 October 2021 at 11AM – 12.30PM (Malaysia Time) \n[Tuesday\, 19 October 2021 at 10PM -11:15PM (US Central Daylight Time (CDT)]\n  \nRegister:  \n~~~~ \nPANELIST: \nDR THOMAS PHELAN \nClinical Psychologist \n  \n~~~ \nHIGHLIGHTS: \n* why discipline is important for children \n* challenges in disciplining children \n* what makes 1-2-3 Magic different \n* how to introduce and apply 1-2-3 Magic in your family \n~~~ \nMODERATORS: \nJamilah Samian & Ahmad Fakhri Hamzah \nwww.coolmumsuperdad.com
URL:https://coolmumsuperdad.com/event/raising-children-in-a-multi-cultural-multi-religious-community-the-muslim-perspective/
CATEGORIES:Zoominar
ATTACH;FMTTYPE=image/png:https://www.coolmumsuperdad.com/wp-content/uploads/2021/01/ZOOMINAR-OCTOBER-2021.png
END:VEVENT
END:VCALENDAR