BEGIN:VCALENDAR
VERSION:2.0
PRODID:-//Cool Mum Super Dad - ECPv5.14.1//NONSGML v1.0//EN
CALSCALE:GREGORIAN
METHOD:PUBLISH
X-WR-CALNAME:Cool Mum Super Dad
X-ORIGINAL-URL:https://coolmumsuperdad.com
X-WR-CALDESC:Events for Cool Mum Super Dad
BEGIN:VTIMEZONE
TZID:Asia/Kuala_Lumpur
BEGIN:STANDARD
TZOFFSETFROM:+0800
TZOFFSETTO:+0800
TZNAME:+08
DTSTART:20210101T000000
END:STANDARD
END:VTIMEZONE
BEGIN:VEVENT
DTSTART;TZID=Asia/Kuala_Lumpur:20210814T100000
DTEND;TZID=Asia/Kuala_Lumpur:20210814T133000
DTSTAMP:20260426T000545
CREATED:20210816T061433Z
LAST-MODIFIED:20210816T061433Z
UID:8042-1628935200-1628947800@coolmumsuperdad.com
SUMMARY:Hardest Job In The World @ UTAR
DESCRIPTION:
URL:https://coolmumsuperdad.com/event/hardest-job-in-the-world-utar/
CATEGORIES:Forum,parenting
END:VEVENT
END:VCALENDAR