BEGIN:VCALENDAR
VERSION:2.0
PRODID:-//Cool Mum Super Dad - ECPv5.14.1//NONSGML v1.0//EN
CALSCALE:GREGORIAN
METHOD:PUBLISH
X-WR-CALNAME:Cool Mum Super Dad
X-ORIGINAL-URL:https://coolmumsuperdad.com
X-WR-CALDESC:Events for Cool Mum Super Dad
BEGIN:VTIMEZONE
TZID:Asia/Kuala_Lumpur
BEGIN:STANDARD
TZOFFSETFROM:+0800
TZOFFSETTO:+0800
TZNAME:+08
DTSTART:20210101T000000
END:STANDARD
END:VTIMEZONE
BEGIN:VEVENT
DTSTART;TZID=Asia/Kuala_Lumpur:20210630T143000
DTEND;TZID=Asia/Kuala_Lumpur:20210630T160000
DTSTAMP:20260424T143921
CREATED:20210624T071502Z
LAST-MODIFIED:20210702T085223Z
UID:7987-1625063400-1625068800@coolmumsuperdad.com
SUMMARY:Leaving A Legacy of A Great Father
DESCRIPTION:  \nBy podcast\, organised by Shell SWAN Cyberjaya. \nThis is a private event.
URL:https://coolmumsuperdad.com/event/leaving-a-legacy-of-a-great-father/
CATEGORIES:parenting,Seminar
END:VEVENT
END:VCALENDAR