BEGIN:VCALENDAR
VERSION:2.0
PRODID:-//Cool Mum Super Dad - ECPv5.14.1//NONSGML v1.0//EN
CALSCALE:GREGORIAN
METHOD:PUBLISH
X-WR-CALNAME:Cool Mum Super Dad
X-ORIGINAL-URL:https://coolmumsuperdad.com
X-WR-CALDESC:Events for Cool Mum Super Dad
BEGIN:VTIMEZONE
TZID:Asia/Kuala_Lumpur
BEGIN:STANDARD
TZOFFSETFROM:+0800
TZOFFSETTO:+0800
TZNAME:+08
DTSTART:20180101T000000
END:STANDARD
END:VTIMEZONE
BEGIN:VEVENT
DTSTART;TZID=Asia/Kuala_Lumpur:20181215T190000
DTEND;TZID=Asia/Kuala_Lumpur:20181215T210000
DTSTAMP:20260423T010248
CREATED:20190212T151508Z
LAST-MODIFIED:20190212T151545Z
UID:7083-1544900400-1544907600@coolmumsuperdad.com
SUMMARY:Leadership In Parenting: Madinat Al Ilam\, Muscat
DESCRIPTION:by Ahmad Fakhri Hamzah \n  \nJamilah and I kicked off the engagement with parents and educators (around 50 people) at a residential place at Madinat Al Ilam in a solid 3-hour session with a short prayer break. We dealt in more detail on the Purposeful Proactive Parenting (3Ps) Approach to provide the big picture for the young as well as experienced parents. We highlighted the 4 stages of children development and clarified the clear roles that parents must perform during each stage. \n \n\nIn the evening\,  we presented a lecture at Masjid Jabir in Wadi Kabir to the Tamil community. Despite the very short notice (less than 18 hrs)\, around 60 participants turned up\, comprising of mothers and fathers. Towards the end\, I had a direct engagement with several teenage boys on their purpose of life. I requested them to be grateful to the Creator and their parents. Many hugged their parents after the short discussion. \n  \n \n  \n \n\n\n\n\n			\n				\n				        															About \n					\n										  has written 119 articles. \n															 \n										\n						\n									View all posts by  →								\n						Blog\n												                                                					\n				\n			\n			Discuss your thoughts below! comments.
URL:https://coolmumsuperdad.com/event/7083/
LOCATION:Muscat\, Oman
CATEGORIES:parenting,workshop
ATTACH;FMTTYPE=image/jpeg:https://www.coolmumsuperdad.com/wp-content/uploads/2019/02/48366132_10156086470754952_8144177163461984256_n.jpg
END:VEVENT
END:VCALENDAR