BEGIN:VCALENDAR
VERSION:2.0
PRODID:-//Cool Mum Super Dad - ECPv5.14.1//NONSGML v1.0//EN
CALSCALE:GREGORIAN
METHOD:PUBLISH
X-WR-CALNAME:Cool Mum Super Dad
X-ORIGINAL-URL:https://coolmumsuperdad.com
X-WR-CALDESC:Events for Cool Mum Super Dad
BEGIN:VTIMEZONE
TZID:Asia/Kuala_Lumpur
BEGIN:STANDARD
TZOFFSETFROM:+0800
TZOFFSETTO:+0800
TZNAME:+08
DTSTART:20210101T000000
END:STANDARD
END:VTIMEZONE
BEGIN:VEVENT
DTSTART;TZID=Asia/Kuala_Lumpur:20210123T120000
DTEND;TZID=Asia/Kuala_Lumpur:20210123T133000
DTSTAMP:20260422T161632
CREATED:20210101T141835Z
LAST-MODIFIED:20210226T031924Z
UID:7843-1611403200-1611408600@coolmumsuperdad.com
SUMMARY:Are You Ready To Become A Father?
DESCRIPTION:  \nThis is a past event. \n  \n~~~~~~ \n  \nBecome a better parent. Register for the following program specially brought to you by Cool Mum Super Dad Consultancy (www.coolmumsuperdad.com) \nTopic: ARE YOU READY TO BECOME A FATHER?\nLearn to Become a Cool Husband & Super Dad before\, during\, and after the baby is delivered. \nFREE SESSION \nRegister via  \nSchedule : Saturday 23rd January 2021\nTime: 12:00 pm – 1.30 pm (Kuala Lumpur) \nPanelist1 : 1. Dr Nurul Khairiyah Khairuddin (Obstetrician & Gynaecologist)\nPanelist2 : Ahmad Fakhri Hamzah (parenting author & speaker) \nModerator: Jamilah Samian (Parenting speaker & author) \nHighlights:\n “How do I prepare myself for fatherhood?”\n “How do I welcome the newborn?”\n “How do I make my wife feel supported?” \nRegister via  \nPlease help spread the word to your loved ones. Thank you. \n			\n				\n				        															About \n					\n										  has written 119 articles. \n															 \n										\n						\n									View all posts by  →								\n						Blog\n												                                                					\n				\n			\n			Discuss your thoughts below! comments.
URL:https://coolmumsuperdad.com/event/are-you-ready-to-be-a-new-father/
CATEGORIES:Zoominar
ATTACH;FMTTYPE=image/jpeg:https://www.coolmumsuperdad.com/wp-content/uploads/2021/01/Poster1.jpeg
END:VEVENT
END:VCALENDAR