BEGIN:VCALENDAR
VERSION:2.0
PRODID:-//Cool Mum Super Dad - ECPv5.14.1//NONSGML v1.0//EN
CALSCALE:GREGORIAN
METHOD:PUBLISH
X-WR-CALNAME:Cool Mum Super Dad
X-ORIGINAL-URL:https://coolmumsuperdad.com
X-WR-CALDESC:Events for Cool Mum Super Dad
BEGIN:VTIMEZONE
TZID:Asia/Kuala_Lumpur
BEGIN:STANDARD
TZOFFSETFROM:+0800
TZOFFSETTO:+0800
TZNAME:+08
DTSTART:20200101T000000
END:STANDARD
END:VTIMEZONE
BEGIN:VEVENT
DTSTART;TZID=Asia/Kuala_Lumpur:20201111T120000
DTEND;TZID=Asia/Kuala_Lumpur:20201111T133000
DTSTAMP:20260422T024823
CREATED:20201102T025616Z
LAST-MODIFIED:20201102T030608Z
UID:7799-1605096000-1605101400@coolmumsuperdad.com
SUMMARY:Ayuh Perangi Pedofilia: Musuh Dalam Selimut
DESCRIPTION:Soalan: Bagaimana jika pemangsa adalah orang kepercayaan keluarga\, contohnya\, bapa / datuk / abang / kakak/ sepupu / bapa saudara kepada mangsa sendiri? Inilah yang dimaksudkan dengan “musuh dalam selimut” yang akan dibincangkan dalam sesi ini. \n  \nWednesday 11th November 2020 @ 12.00 – 1:30 pm – “Ayuh Perangi Pedofilia!: Cabaran Musuh Dalam Selimut” bersama Pn Lila Hussain (Presiden Helping Shoulder\, Pn Hazariah Mohd Zal (Kounselor PDRM) & Pn Jamilah Samian (Penulis Keibubapaan). (Daftar: ) \n  \n			\n				\n				        															About \n					\n										  has written 119 articles. \n															 \n										\n						\n									View all posts by  →								\n						Blog\n												                                                					\n				\n			\n			Discuss your thoughts below! comments.
URL:https://coolmumsuperdad.com/event/ayuh-perangi-pedofilia/
CATEGORIES:Zoominar
END:VEVENT
END:VCALENDAR