BEGIN:VCALENDAR
VERSION:2.0
PRODID:-//Cool Mum Super Dad - ECPv5.14.1//NONSGML v1.0//EN
CALSCALE:GREGORIAN
METHOD:PUBLISH
X-WR-CALNAME:Cool Mum Super Dad
X-ORIGINAL-URL:https://coolmumsuperdad.com
X-WR-CALDESC:Events for Cool Mum Super Dad
BEGIN:VTIMEZONE
TZID:Asia/Kuala_Lumpur
BEGIN:STANDARD
TZOFFSETFROM:+0800
TZOFFSETTO:+0800
TZNAME:+08
DTSTART:20210101T000000
END:STANDARD
END:VTIMEZONE
BEGIN:VEVENT
DTSTART;TZID=Asia/Kuala_Lumpur:20210811T110000
DTEND;TZID=Asia/Kuala_Lumpur:20210811T123000
DTSTAMP:20260424T220010
CREATED:20210101T150306Z
LAST-MODIFIED:20210812T100332Z
UID:7862-1628679600-1628685000@coolmumsuperdad.com
SUMMARY:Guide Your Child To A Future Career
DESCRIPTION:  \nWatch the recording: https://youtu.be/-saqIQfTJBk \n\n~~~~~ \nTitle: GUIDE YOUR CHILD TO A FUTURE CAREER \nWednesday\, 11th August 2021 \n11AM – 12.30PM \nFREE SESSION \nRegister:  \n~~~~ \nHighlights: \n– smart ways to help your child choose a career path \n– prepare your child for an uncertain future \n– career planning for youth \n~~~~ \nPanelists: \nPuan Intan Zalila Mohd Yusof \nHead\, Program Coordination Yayasan Hasanah \nEncik Shahrizal Muhd Suffian \n– Senior Client Partner\, Korn Ferry Indonesia \n– Advisor\, National Employment Council (NEC)\, Prime Minister’s Office Malaysia \n  \n~~~~~ \n  \nModerators: \nAhmad Fakhri Hamzah & Jamilah Samian\nwww.coolmumsuperdad.com \n  \n  \n			\n				\n				        															About \n					\n										  has written 119 articles. \n															 \n										\n						\n									View all posts by  →								\n						Blog\n												                                                					\n				\n			\n			Discuss your thoughts below! comments.
URL:https://coolmumsuperdad.com/event/commuter-family-making-it-work/
CATEGORIES:Zoominar
END:VEVENT
END:VCALENDAR