BEGIN:VCALENDAR
VERSION:2.0
PRODID:-//Cool Mum Super Dad - ECPv5.14.1//NONSGML v1.0//EN
CALSCALE:GREGORIAN
METHOD:PUBLISH
X-WR-CALNAME:Cool Mum Super Dad
X-ORIGINAL-URL:https://coolmumsuperdad.com
X-WR-CALDESC:Events for Cool Mum Super Dad
BEGIN:VTIMEZONE
TZID:Asia/Kuala_Lumpur
BEGIN:STANDARD
TZOFFSETFROM:+0800
TZOFFSETTO:+0800
TZNAME:+08
DTSTART:20190101T000000
END:STANDARD
END:VTIMEZONE
BEGIN:VEVENT
DTSTART;VALUE=DATE:20190420
DTEND;VALUE=DATE:20190421
DTSTAMP:20260422T185743
CREATED:20190301T100851Z
LAST-MODIFIED:20190405T022034Z
UID:7195-1555718400-1555804799@coolmumsuperdad.com
SUMMARY:Cool Mum Super Dad @ KPJUC
DESCRIPTION:This program is intended to show parents how to raise capable\, conscious and creative youngsters in society. \nOpen to MEMBERS OF THE PUBLIC. \nDay/Date : Saturday\, 20th April 2019 \nTime : 9am – 5.30pm (Registration starts at 8.30am) \nOnline Registration: \nEnquiries:\nPlease contact Ms Siti Aishah at 012.242.4215 or email ucn.aishah@kpjuc.edu.my \nTarget participants:\nFathers\, Mothers\, Parents-to-be who are interested in improving knowledge on parenting skills\, by learning an integrated approach to raise a successful family and overcome parenting challenges with practical solutions. \nFeatured image compressed by WeCompress.com \n  \n  \n			\n				\n				        															About \n					\n										  has written 119 articles. \n															 \n										\n						\n									View all posts by  →								\n						Blog\n												                                                					\n				\n			\n			Discuss your thoughts below! comments.
URL:https://coolmumsuperdad.com/event/cool-mum-super-dad-bangi/
LOCATION:KPJ HealthCare University College\, Nilai\, Lot PT 17010 Persiaran Seriemas\, Kota Seriemas\, 71800 Nilai\, Negeri Sembilan\, Nilai\, Malaysia
CATEGORIES:parenting,workshop
ATTACH;FMTTYPE=image/jpeg:https://www.coolmumsuperdad.com/wp-content/uploads/2019/03/54435692_2065004586882287_2466688409167462400_n.jpg
END:VEVENT
END:VCALENDAR