BEGIN:VCALENDAR
VERSION:2.0
PRODID:-//Cool Mum Super Dad - ECPv5.14.1//NONSGML v1.0//EN
CALSCALE:GREGORIAN
METHOD:PUBLISH
X-WR-CALNAME:Cool Mum Super Dad
X-ORIGINAL-URL:https://coolmumsuperdad.com
X-WR-CALDESC:Events for Cool Mum Super Dad
BEGIN:VTIMEZONE
TZID:Asia/Kuala_Lumpur
BEGIN:STANDARD
TZOFFSETFROM:+0800
TZOFFSETTO:+0800
TZNAME:+08
DTSTART:20190101T000000
END:STANDARD
END:VTIMEZONE
BEGIN:VEVENT
DTSTART;TZID=Asia/Kuala_Lumpur:20191102T080000
DTEND;TZID=Asia/Kuala_Lumpur:20191103T170000
DTSTAMP:20260422T140958
CREATED:20190910T145727Z
LAST-MODIFIED:20190910T145727Z
UID:7421-1572681600-1572800400@coolmumsuperdad.com
SUMMARY:Cool Mum Super Dad @ Membakut\, Sabah
DESCRIPTION:Program umum. More details to follow. \n			\n				\n				        															About \n					\n										  has written 119 articles. \n															 \n										\n						\n									View all posts by  →								\n						Blog\n												                                                					\n				\n			\n			Discuss your thoughts below! comments.
URL:https://coolmumsuperdad.com/event/cool-mum-super-dad-membakut-sabah-2/
LOCATION:Membakut\, Sabah\, Malaysia
CATEGORIES:parenting,workshop
END:VEVENT
END:VCALENDAR