BEGIN:VCALENDAR
VERSION:2.0
PRODID:-//Cool Mum Super Dad - ECPv5.14.1//NONSGML v1.0//EN
CALSCALE:GREGORIAN
METHOD:PUBLISH
X-WR-CALNAME:Cool Mum Super Dad
X-ORIGINAL-URL:https://coolmumsuperdad.com
X-WR-CALDESC:Events for Cool Mum Super Dad
BEGIN:VTIMEZONE
TZID:Asia/Kuala_Lumpur
BEGIN:STANDARD
TZOFFSETFROM:+0800
TZOFFSETTO:+0800
TZNAME:+08
DTSTART:20200101T000000
END:STANDARD
END:VTIMEZONE
BEGIN:VEVENT
DTSTART;TZID=Asia/Kuala_Lumpur:20200906T073000
DTEND;TZID=Asia/Kuala_Lumpur:20200906T093000
DTSTAMP:20260422T152501
CREATED:20200903T082330Z
LAST-MODIFIED:20200907T025848Z
UID:7729-1599377400-1599384600@coolmumsuperdad.com
SUMMARY:Unlock Your Child's Potential @ MISG USA
DESCRIPTION:About \n					\n										  has written 119 articles. \n															 \n										\n						\n									View all posts by  →								\n						Blog\n												                                                					\n				\n			\n			Discuss your thoughts below! comments.
URL:https://coolmumsuperdad.com/event/cool-mum-super-dad-misg-usa/
CATEGORIES:parenting
ATTACH;FMTTYPE=image/jpeg:https://www.coolmumsuperdad.com/wp-content/uploads/2020/09/WhatsApp-Image-2020-09-04-at-22.29.09.jpeg
END:VEVENT
END:VCALENDAR