BEGIN:VCALENDAR
VERSION:2.0
PRODID:-//Cool Mum Super Dad - ECPv5.14.1//NONSGML v1.0//EN
CALSCALE:GREGORIAN
METHOD:PUBLISH
X-WR-CALNAME:Cool Mum Super Dad
X-ORIGINAL-URL:https://coolmumsuperdad.com
X-WR-CALDESC:Events for Cool Mum Super Dad
BEGIN:VTIMEZONE
TZID:Asia/Kuala_Lumpur
BEGIN:STANDARD
TZOFFSETFROM:+0800
TZOFFSETTO:+0800
TZNAME:+08
DTSTART:20200101T000000
END:STANDARD
END:VTIMEZONE
BEGIN:VEVENT
DTSTART;TZID=Asia/Kuala_Lumpur:20201125T120000
DTEND;TZID=Asia/Kuala_Lumpur:20201125T133000
DTSTAMP:20260422T093141
CREATED:20201102T031112Z
LAST-MODIFIED:20210226T033029Z
UID:7814-1606305600-1606311000@coolmumsuperdad.com
SUMMARY:Depression and Suicidal Thoughts
DESCRIPTION:  \nThis is a past event. \n~~~~ \nWednesday 25th November 2020 @ 12.00 – 1:30 pm – “Depression and Suicidal Thoughts” with Dr Adnan Omar (clinical psychologist\, PhD in Suicidology) Ahmad Fakhri & Jamilah Samian (parenting authors). (Register :  ) \n			\n				\n				        															About \n					\n										  has written 119 articles. \n															 \n										\n						\n									View all posts by  →								\n						Blog\n												                                                					\n				\n			\n			Discuss your thoughts below! comments.
URL:https://coolmumsuperdad.com/event/depression-and-suicidal-thoughts/
CATEGORIES:Zoominar
END:VEVENT
END:VCALENDAR