BEGIN:VCALENDAR
VERSION:2.0
PRODID:-//Cool Mum Super Dad - ECPv5.14.1//NONSGML v1.0//EN
CALSCALE:GREGORIAN
METHOD:PUBLISH
X-WR-CALNAME:Cool Mum Super Dad
X-ORIGINAL-URL:https://coolmumsuperdad.com
X-WR-CALDESC:Events for Cool Mum Super Dad
BEGIN:VTIMEZONE
TZID:Asia/Kuala_Lumpur
BEGIN:STANDARD
TZOFFSETFROM:+0800
TZOFFSETTO:+0800
TZNAME:+08
DTSTART:20210101T000000
END:STANDARD
END:VTIMEZONE
BEGIN:VEVENT
DTSTART;TZID=Asia/Kuala_Lumpur:20210714T110000
DTEND;TZID=Asia/Kuala_Lumpur:20210714T123000
DTSTAMP:20260424T164123
CREATED:20210330T073206Z
LAST-MODIFIED:20210714T080805Z
UID:7908-1626260400-1626265800@coolmumsuperdad.com
SUMMARY:Developing Your Child's Financial Literacy
DESCRIPTION:  \nWatch the recording:\nhttps://youtu.be/Nbf5hA874gI \n~~~~~ \nCool Mum Super Dad Consultancy brings you\nZoominar of The Month (July 2021) \n~~ \nTopic: DEVELOPING YOUR CHILD’S FINANCIAL LITERACY \nFREE Session\nRegister:  \n~~ \nHighlights:\n– guide kids to avoid costly mistakes in life\n– teach kids about financial freedom\n– “safety net” or “money diet” concepts\n– teach kids how to manage & multiply money \n~~ \nPanelist: Ng Pui Yee\nCEO\, littletauke.com \nPanelist: Azizi Ali\nFinancial Coach & Best-Selling Author \n~~ \nModerators:\nAhmad Fakhri Hamzah & Jamilah Samian\nCool Mum Super Dad Consultancy\nwww.coolmumsuperdad.com \n			\n				\n				        															About \n					\n										  has written 119 articles. \n															 \n										\n						\n									View all posts by  →								\n						Blog\n												                                                					\n				\n			\n			Discuss your thoughts below! comments.
URL:https://coolmumsuperdad.com/event/developing-your-childs-financial-literacy/
CATEGORIES:Zoominar
END:VEVENT
END:VCALENDAR