BEGIN:VCALENDAR
VERSION:2.0
PRODID:-//Cool Mum Super Dad - ECPv5.14.1//NONSGML v1.0//EN
CALSCALE:GREGORIAN
METHOD:PUBLISH
X-WR-CALNAME:Cool Mum Super Dad
X-ORIGINAL-URL:https://coolmumsuperdad.com
X-WR-CALDESC:Events for Cool Mum Super Dad
BEGIN:VTIMEZONE
TZID:Asia/Kuala_Lumpur
BEGIN:STANDARD
TZOFFSETFROM:+0800
TZOFFSETTO:+0800
TZNAME:+08
DTSTART:20160101T000000
END:STANDARD
END:VTIMEZONE
BEGIN:VEVENT
DTSTART;TZID=Asia/Kuala_Lumpur:20160916T080000
DTEND;TZID=Asia/Kuala_Lumpur:20160918T170000
DTSTAMP:20260423T040958
CREATED:20160827T033033Z
LAST-MODIFIED:20160827T033033Z
UID:5715-1474012800-1474218000@coolmumsuperdad.com
SUMMARY:Festival of Knowledge 2016
DESCRIPTION:Festival of Knowledge 2016 \nIslamic Parenting Conference:\nRaising Children To Thrive in The 21st Century \n\nFriday – Sunday / 16 – 18 September 2016 \n\n \n  \n \n  \n \n			\n				\n				        															About \n					\n										  has written 119 articles. \n															 \n										\n						\n									View all posts by  →								\n						Blog\n												                                                					\n				\n			\n			Discuss your thoughts below! comments.
URL:https://coolmumsuperdad.com/event/f/
LOCATION:Red Velvet Village Hotel\, Bugis\, Singapore\, Singapore
ATTACH;FMTTYPE=image/jpeg:https://www.coolmumsuperdad.com/wp-content/uploads/2016/08/14053647_10206899314021859_2364039733056634358_o-1.jpg
END:VEVENT
END:VCALENDAR