BEGIN:VCALENDAR
VERSION:2.0
PRODID:-//Cool Mum Super Dad - ECPv5.14.1//NONSGML v1.0//EN
CALSCALE:GREGORIAN
METHOD:PUBLISH
X-WR-CALNAME:Cool Mum Super Dad
X-ORIGINAL-URL:https://coolmumsuperdad.com
X-WR-CALDESC:Events for Cool Mum Super Dad
BEGIN:VTIMEZONE
TZID:Asia/Kuala_Lumpur
BEGIN:STANDARD
TZOFFSETFROM:+0800
TZOFFSETTO:+0800
TZNAME:+08
DTSTART:20200101T000000
END:STANDARD
END:VTIMEZONE
BEGIN:VEVENT
DTSTART;TZID=Asia/Kuala_Lumpur:20200811T193000
DTEND;TZID=Asia/Kuala_Lumpur:20200811T223000
DTSTAMP:20260422T220500
CREATED:20200903T081709Z
LAST-MODIFIED:20200903T081745Z
UID:7719-1597174200-1597185000@coolmumsuperdad.com
SUMMARY:FamTIME Bersama @ Generasi Gemilang (Round 1 Virtual)
DESCRIPTION:About \n					\n										  has written 119 articles. \n															 \n										\n						\n									View all posts by  →								\n						Blog\n												                                                					\n				\n			\n			Discuss your thoughts below! comments.
URL:https://coolmumsuperdad.com/event/famtime-bersama-generasi-gemilang-round-1-virtual/
CATEGORIES:parenting
END:VEVENT
END:VCALENDAR