BEGIN:VCALENDAR
VERSION:2.0
PRODID:-//Cool Mum Super Dad - ECPv5.14.1//NONSGML v1.0//EN
CALSCALE:GREGORIAN
METHOD:PUBLISH
X-WR-CALNAME:Cool Mum Super Dad
X-ORIGINAL-URL:https://coolmumsuperdad.com
X-WR-CALDESC:Events for Cool Mum Super Dad
BEGIN:VTIMEZONE
TZID:Asia/Kuala_Lumpur
BEGIN:STANDARD
TZOFFSETFROM:+0800
TZOFFSETTO:+0800
TZNAME:+08
DTSTART:20200101T000000
END:STANDARD
END:VTIMEZONE
BEGIN:VEVENT
DTSTART;TZID=Asia/Kuala_Lumpur:20201004T110000
DTEND;TZID=Asia/Kuala_Lumpur:20201004T113000
DTSTAMP:20260422T024416
CREATED:20200922T043128Z
LAST-MODIFIED:20200922T043128Z
UID:7773-1601809200-1601811000@coolmumsuperdad.com
SUMMARY:Fresh Brew @ RTM: Accept Versus Expect
DESCRIPTION:About \n					\n										  has written 119 articles. \n															 \n										\n						\n									View all posts by  →								\n						Blog\n												                                                					\n				\n			\n			Discuss your thoughts below! comments.
URL:https://coolmumsuperdad.com/event/fresh-brew-rtm-accept-versus-expect/
CATEGORIES:parenting
END:VEVENT
END:VCALENDAR