BEGIN:VCALENDAR
VERSION:2.0
PRODID:-//Cool Mum Super Dad - ECPv5.14.1//NONSGML v1.0//EN
CALSCALE:GREGORIAN
METHOD:PUBLISH
X-WR-CALNAME:Cool Mum Super Dad
X-ORIGINAL-URL:https://coolmumsuperdad.com
X-WR-CALDESC:Events for Cool Mum Super Dad
BEGIN:VTIMEZONE
TZID:Asia/Kuala_Lumpur
BEGIN:STANDARD
TZOFFSETFROM:+0800
TZOFFSETTO:+0800
TZNAME:+08
DTSTART:20170101T000000
END:STANDARD
END:VTIMEZONE
BEGIN:VEVENT
DTSTART;TZID=Asia/Kuala_Lumpur:20170528T110000
DTEND;TZID=Asia/Kuala_Lumpur:20170528T150000
DTSTAMP:20260423T024107
CREATED:20170524T045248Z
LAST-MODIFIED:20170524T045248Z
UID:6111-1495969200-1495983600@coolmumsuperdad.com
SUMMARY:Inspiring Youth Leadership Workshop
DESCRIPTION:Be inspired\, come along for a journey of personal discovery. Learn the secrets of success\, chart your future\, overcome obstacles and step into a better\, brighter tomorrow as a young Muslim! \n  \n  \n			\n				\n				        															About \n					\n										  has written 119 articles. \n															 \n										\n						\n									View all posts by  →								\n						Blog\n												                                                					\n				\n			\n			Discuss your thoughts below! comments.
URL:https://coolmumsuperdad.com/event/inspiring-youth-leadership-workshop/
LOCATION:Perth Ummah Centre\, 4/20 Roxby Lane Willeton\, Perth\, Western Australia\, Australia
CATEGORIES:Teenagers,workshop
ATTACH;FMTTYPE=image/jpeg:https://www.coolmumsuperdad.com/wp-content/uploads/2017/05/IMG-20170515-WA0001.jpg
END:VEVENT
END:VCALENDAR