BEGIN:VCALENDAR
VERSION:2.0
PRODID:-//Cool Mum Super Dad - ECPv5.14.1//NONSGML v1.0//EN
CALSCALE:GREGORIAN
METHOD:PUBLISH
X-WR-CALNAME:Cool Mum Super Dad
X-ORIGINAL-URL:https://coolmumsuperdad.com
X-WR-CALDESC:Events for Cool Mum Super Dad
BEGIN:VTIMEZONE
TZID:Asia/Kuala_Lumpur
BEGIN:STANDARD
TZOFFSETFROM:+0800
TZOFFSETTO:+0800
TZNAME:+08
DTSTART:20200101T000000
END:STANDARD
END:VTIMEZONE
BEGIN:VEVENT
DTSTART;TZID=Asia/Kuala_Lumpur:20201121T150000
DTEND;TZID=Asia/Kuala_Lumpur:20201121T170000
DTSTAMP:20260422T075348
CREATED:20201102T030929Z
LAST-MODIFIED:20201102T030929Z
UID:7812-1605970800-1605978000@coolmumsuperdad.com
SUMMARY:Leadership in Parenting
DESCRIPTION:Saturday 21st November 2020 @ 3 – 5 pm – “Leadership in Parenting” with Ahmad Fakhri & Jamilah Samian (Register:  or email to events@mapsa-malaysia.com) \n			\n				\n				        															About \n					\n										  has written 119 articles. \n															 \n										\n						\n									View all posts by  →								\n						Blog\n												                                                					\n				\n			\n			Discuss your thoughts below! comments.
URL:https://coolmumsuperdad.com/event/leadership-in-parenting-2/
CATEGORIES:Zoominar
END:VEVENT
END:VCALENDAR