BEGIN:VCALENDAR
VERSION:2.0
PRODID:-//Cool Mum Super Dad - ECPv5.14.1//NONSGML v1.0//EN
CALSCALE:GREGORIAN
METHOD:PUBLISH
X-WR-CALNAME:Cool Mum Super Dad
X-ORIGINAL-URL:https://coolmumsuperdad.com
X-WR-CALDESC:Events for Cool Mum Super Dad
BEGIN:VTIMEZONE
TZID:Asia/Kuala_Lumpur
BEGIN:STANDARD
TZOFFSETFROM:+0800
TZOFFSETTO:+0800
TZNAME:+08
DTSTART:20220101T000000
END:STANDARD
END:VTIMEZONE
BEGIN:VEVENT
DTSTART;TZID=Asia/Kuala_Lumpur:20221023T140000
DTEND;TZID=Asia/Kuala_Lumpur:20221023T150000
DTSTAMP:20260425T063442
CREATED:20221019T040428Z
LAST-MODIFIED:20221019T072029Z
UID:8265-1666533600-1666537200@coolmumsuperdad.com
SUMMARY:Leadership In Parenting
DESCRIPTION:  \n  \n  \nJoin us this Sunday 23rd Oct 2022 \n2pm – 3pm \nfor practical\, insightful tips on how YOU can lead your child better. \nFacebook post:\nhttps://www.facebook.com/EyeLevel.Malaysia/photos/a.185743671557367/2869762916488749/\n\n			\n				\n				        															About \n					\n										  has written 119 articles. \n															 \n										\n						\n									View all posts by  →								\n						Blog\n												                                                					\n				\n			\n			Discuss your thoughts below! comments.
URL:https://coolmumsuperdad.com/event/leadership-in-parenting-3/
CATEGORIES:Zoominar
ATTACH;FMTTYPE=image/png:https://www.coolmumsuperdad.com/wp-content/uploads/2022/10/Edutalk-JamilahFakhri_3.png
END:VEVENT
END:VCALENDAR