BEGIN:VCALENDAR
VERSION:2.0
PRODID:-//Cool Mum Super Dad - ECPv5.14.1//NONSGML v1.0//EN
CALSCALE:GREGORIAN
METHOD:PUBLISH
X-WR-CALNAME:Cool Mum Super Dad
X-ORIGINAL-URL:https://coolmumsuperdad.com
X-WR-CALDESC:Events for Cool Mum Super Dad
BEGIN:VTIMEZONE
TZID:Asia/Kuala_Lumpur
BEGIN:STANDARD
TZOFFSETFROM:+0800
TZOFFSETTO:+0800
TZNAME:+08
DTSTART:20190101T000000
END:STANDARD
END:VTIMEZONE
BEGIN:VEVENT
DTSTART;TZID=Asia/Kuala_Lumpur:20190717T150000
DTEND;TZID=Asia/Kuala_Lumpur:20190717T170000
DTSTAMP:20260421T232425
CREATED:20190510T015150Z
LAST-MODIFIED:20190510T015150Z
UID:7304-1563375600-1563382800@coolmumsuperdad.com
SUMMARY:Leadership In Parenting @ Gamuda
DESCRIPTION:This session is open only to employees of Gamuda. \n			\n				\n				        															About \n					\n										  has written 119 articles. \n															 \n										\n						\n									View all posts by  →								\n						Blog\n												                                                					\n				\n			\n			Discuss your thoughts below! comments.
URL:https://coolmumsuperdad.com/event/leadership-in-parenting-gamuda/
LOCATION:Gamuda\, Kuala Lumpur
CATEGORIES:parenting,workshop
END:VEVENT
END:VCALENDAR