BEGIN:VCALENDAR
VERSION:2.0
PRODID:-//Cool Mum Super Dad - ECPv5.14.1//NONSGML v1.0//EN
CALSCALE:GREGORIAN
METHOD:PUBLISH
X-WR-CALNAME:Cool Mum Super Dad
X-ORIGINAL-URL:https://coolmumsuperdad.com
X-WR-CALDESC:Events for Cool Mum Super Dad
BEGIN:VTIMEZONE
TZID:Asia/Kuala_Lumpur
BEGIN:STANDARD
TZOFFSETFROM:+0800
TZOFFSETTO:+0800
TZNAME:+08
DTSTART:20200101T000000
END:STANDARD
END:VTIMEZONE
BEGIN:VEVENT
DTSTART;VALUE=DATE:20201114
DTEND;VALUE=DATE:20201116
DTSTAMP:20260422T054959
CREATED:20200922T043708Z
LAST-MODIFIED:20201016T015831Z
UID:7778-1605312000-1605484799@coolmumsuperdad.com
SUMMARY:Leadership In Parenting & Youth Leadership Workshops @ Bukit Saban
DESCRIPTION:This event has been postponed due to Covid-19. \n			\n				\n				        															About \n					\n										  has written 119 articles. \n															 \n										\n						\n									View all posts by  →								\n						Blog\n												                                                					\n				\n			\n			Discuss your thoughts below! comments.
URL:https://coolmumsuperdad.com/event/leadership-in-parenting-youth-leadership-workshops-bukit-saban/
CATEGORIES:parenting,Teenagers,workshop
END:VEVENT
END:VCALENDAR