BEGIN:VCALENDAR
VERSION:2.0
PRODID:-//Cool Mum Super Dad - ECPv5.14.1//NONSGML v1.0//EN
CALSCALE:GREGORIAN
METHOD:PUBLISH
X-WR-CALNAME:Cool Mum Super Dad
X-ORIGINAL-URL:https://coolmumsuperdad.com
X-WR-CALDESC:Events for Cool Mum Super Dad
BEGIN:VTIMEZONE
TZID:Asia/Kuala_Lumpur
BEGIN:STANDARD
TZOFFSETFROM:+0800
TZOFFSETTO:+0800
TZNAME:+08
DTSTART:20190101T000000
END:STANDARD
END:VTIMEZONE
BEGIN:VEVENT
DTSTART;TZID=Asia/Kuala_Lumpur:20190402T110000
DTEND;TZID=Asia/Kuala_Lumpur:20190402T120000
DTSTAMP:20260423T010523
CREATED:20190415T063019Z
LAST-MODIFIED:20190415T063019Z
UID:7275-1554202800-1554206400@coolmumsuperdad.com
SUMMARY:Leadership In Parenting @ Tokyo
DESCRIPTION:Private session with teachers of Yuai International Islamic School\, Japan. \n			\n				\n				        															About \n					\n										  has written 119 articles. \n															 \n										\n						\n									View all posts by  →								\n						Blog\n												                                                					\n				\n			\n			Discuss your thoughts below! comments.
URL:https://coolmumsuperdad.com/event/leadership-in-parenting/
LOCATION:Yuai International Islamic School Japan\, Tokyo\, Japan
END:VEVENT
END:VCALENDAR