BEGIN:VCALENDAR
VERSION:2.0
PRODID:-//Cool Mum Super Dad - ECPv5.14.1//NONSGML v1.0//EN
CALSCALE:GREGORIAN
METHOD:PUBLISH
X-WR-CALNAME:Cool Mum Super Dad
X-ORIGINAL-URL:https://coolmumsuperdad.com
X-WR-CALDESC:Events for Cool Mum Super Dad
BEGIN:VTIMEZONE
TZID:Asia/Kuala_Lumpur
BEGIN:STANDARD
TZOFFSETFROM:+0800
TZOFFSETTO:+0800
TZNAME:+08
DTSTART:20190101T000000
END:STANDARD
END:VTIMEZONE
BEGIN:VEVENT
DTSTART;TZID=Asia/Kuala_Lumpur:20190626T080000
DTEND;TZID=Asia/Kuala_Lumpur:20190627T170000
DTSTAMP:20260422T073441
CREATED:20190702T081717Z
LAST-MODIFIED:20190702T081717Z
UID:7345-1561536000-1561654800@coolmumsuperdad.com
SUMMARY:LEADERSpeak: Speak Up With Confidence @ Petronas
DESCRIPTION:A private program for Petronas. \n			\n				\n				        															About \n					\n										  has written 119 articles. \n															 \n										\n						\n									View all posts by  →								\n						Blog\n												                                                					\n				\n			\n			Discuss your thoughts below! comments.
URL:https://coolmumsuperdad.com/event/leaderspeak-speak-up-with-confidence-petronas/
LOCATION:Kuala Lumpur\, Malaysia
CATEGORIES:workshop
END:VEVENT
END:VCALENDAR