BEGIN:VCALENDAR
VERSION:2.0
PRODID:-//Cool Mum Super Dad - ECPv5.14.1//NONSGML v1.0//EN
CALSCALE:GREGORIAN
METHOD:PUBLISH
X-WR-CALNAME:Cool Mum Super Dad
X-ORIGINAL-URL:https://coolmumsuperdad.com
X-WR-CALDESC:Events for Cool Mum Super Dad
BEGIN:VTIMEZONE
TZID:Asia/Kuala_Lumpur
BEGIN:STANDARD
TZOFFSETFROM:+0800
TZOFFSETTO:+0800
TZNAME:+08
DTSTART:20190101T000000
END:STANDARD
END:VTIMEZONE
BEGIN:VEVENT
DTSTART;TZID=Asia/Kuala_Lumpur:20190508T140000
DTEND;TZID=Asia/Kuala_Lumpur:20190508T160000
DTSTAMP:20260422T105726
CREATED:20190301T053228Z
LAST-MODIFIED:20190508T023656Z
UID:7145-1557324000-1557331200@coolmumsuperdad.com
SUMMARY:Social Media\, Parental Control & Raising The Digital Generation @ Mara Inc\, KL
DESCRIPTION:This session is only for employees of Mara Inc. \n			\n				\n				        															About \n					\n										  has written 119 articles. \n															 \n										\n						\n									View all posts by  →								\n						Blog\n												                                                					\n				\n			\n			Discuss your thoughts below! comments.
URL:https://coolmumsuperdad.com/event/mothers-day-parenting-seminar-mara-inc/
LOCATION:Mara Inc\, KL\, Malaysia
CATEGORIES:workshop
ATTACH;FMTTYPE=image/jpeg:https://www.coolmumsuperdad.com/wp-content/uploads/2019/03/IMG-20190503-WA0000.jpg
END:VEVENT
END:VCALENDAR