BEGIN:VCALENDAR
VERSION:2.0
PRODID:-//Cool Mum Super Dad - ECPv5.14.1//NONSGML v1.0//EN
CALSCALE:GREGORIAN
METHOD:PUBLISH
X-WR-CALNAME:Cool Mum Super Dad
X-ORIGINAL-URL:https://coolmumsuperdad.com
X-WR-CALDESC:Events for Cool Mum Super Dad
BEGIN:VTIMEZONE
TZID:Asia/Kuala_Lumpur
BEGIN:STANDARD
TZOFFSETFROM:+0800
TZOFFSETTO:+0800
TZNAME:+08
DTSTART:20160101T000000
END:STANDARD
END:VTIMEZONE
BEGIN:VEVENT
DTSTART;VALUE=DATE:20161001
DTEND;VALUE=DATE:20161003
DTSTAMP:20260423T024045
CREATED:20160919T073627Z
LAST-MODIFIED:20160925T134652Z
UID:5742-1475280000-1475452799@coolmumsuperdad.com
SUMMARY:Muslim Parenting Toolbox Workshop @ Brisbane
DESCRIPTION:Get details of the Muslim Parenting Toolbox: A 2-Day Workshop \nPresenters: \n\n \n\nOrganisers/Sponsors: \nIslamic Women’s Association of Queensland & Islamic Council of Queensland \n \n\n\n\n \nWelcome parents\, parents-to-be\, grandparents\, uncles\, aunts\, educators\, teachers – anyone who has a hand in raising the future generation. \n  \n			\n				\n				        															About \n					\n										  has written 119 articles. \n															 \n										\n						\n									View all posts by  →								\n						Blog\n												                                                					\n				\n			\n			Discuss your thoughts below! comments.
URL:https://coolmumsuperdad.com/event/muslim-parenting-toolbox-brisbane/
LOCATION:Unnamed Venue\, 11 Watland Street Springwood\, Brisbane\, Queensland\, Australia
ATTACH;FMTTYPE=image/jpeg:https://www.coolmumsuperdad.com/wp-content/uploads/2016/09/IMG-20160918-WA0000.jpg
END:VEVENT
END:VCALENDAR