BEGIN:VCALENDAR
VERSION:2.0
PRODID:-//Cool Mum Super Dad - ECPv5.14.1//NONSGML v1.0//EN
CALSCALE:GREGORIAN
METHOD:PUBLISH
X-WR-CALNAME:Cool Mum Super Dad
X-ORIGINAL-URL:https://coolmumsuperdad.com
X-WR-CALDESC:Events for Cool Mum Super Dad
BEGIN:VTIMEZONE
TZID:Asia/Kuala_Lumpur
BEGIN:STANDARD
TZOFFSETFROM:+0800
TZOFFSETTO:+0800
TZNAME:+08
DTSTART:20170101T000000
END:STANDARD
END:VTIMEZONE
BEGIN:VEVENT
DTSTART;TZID=Asia/Kuala_Lumpur:20170520T100000
DTEND;TZID=Asia/Kuala_Lumpur:20170520T160000
DTSTAMP:20260423T085417
CREATED:20170525T120048Z
LAST-MODIFIED:20170525T120223Z
UID:6115-1495274400-1495296000@coolmumsuperdad.com
SUMMARY:Muslim Parenting Toolbox 2 @ Adelaide
DESCRIPTION:This workshop returns to Adelaide following the success of Muslim Parenting Toolbox 1 in October 2016. \n			\n				\n				        															About \n					\n										  has written 119 articles. \n															 \n										\n						\n									View all posts by  →								\n						Blog\n												                                                					\n				\n			\n			Discuss your thoughts below! comments.
URL:https://coolmumsuperdad.com/event/parenting-toolbox-2-adelaide-2/
LOCATION:Adelaide
CATEGORIES:parenting,workshop
ATTACH;FMTTYPE=image/jpeg:https://www.coolmumsuperdad.com/wp-content/uploads/2017/05/IMG-20170513-WA00031.jpg
END:VEVENT
END:VCALENDAR