BEGIN:VCALENDAR
VERSION:2.0
PRODID:-//Cool Mum Super Dad - ECPv5.14.1//NONSGML v1.0//EN
CALSCALE:GREGORIAN
METHOD:PUBLISH
X-WR-CALNAME:Cool Mum Super Dad
X-ORIGINAL-URL:https://coolmumsuperdad.com
X-WR-CALDESC:Events for Cool Mum Super Dad
BEGIN:VTIMEZONE
TZID:Asia/Kuala_Lumpur
BEGIN:STANDARD
TZOFFSETFROM:+0800
TZOFFSETTO:+0800
TZNAME:+08
DTSTART:20190101T000000
END:STANDARD
END:VTIMEZONE
BEGIN:VEVENT
DTSTART;TZID=Asia/Kuala_Lumpur:20190425T080000
DTEND;TZID=Asia/Kuala_Lumpur:20190425T170000
DTSTAMP:20260422T154736
CREATED:20190415T022750Z
LAST-MODIFIED:20190415T022940Z
UID:7267-1556179200-1556211600@coolmumsuperdad.com
SUMMARY:Parenting @ Work (Seremban)
DESCRIPTION:Organiser: LPPKN. \nMore details to follow. \n			\n				\n				        															About \n					\n										  has written 119 articles. \n															 \n										\n						\n									View all posts by  →								\n						Blog\n												                                                					\n				\n			\n			Discuss your thoughts below! comments.
URL:https://coolmumsuperdad.com/event/parenting-work/
LOCATION:LPPKN Seremban Negeri Sembilan\, Seremban\, Malaysia
CATEGORIES:parenting
END:VEVENT
END:VCALENDAR