BEGIN:VCALENDAR
VERSION:2.0
PRODID:-//Cool Mum Super Dad - ECPv5.14.1//NONSGML v1.0//EN
CALSCALE:GREGORIAN
METHOD:PUBLISH
X-WR-CALNAME:Cool Mum Super Dad
X-ORIGINAL-URL:https://coolmumsuperdad.com
X-WR-CALDESC:Events for Cool Mum Super Dad
BEGIN:VTIMEZONE
TZID:Asia/Kuala_Lumpur
BEGIN:STANDARD
TZOFFSETFROM:+0800
TZOFFSETTO:+0800
TZNAME:+08
DTSTART:20190101T000000
END:STANDARD
END:VTIMEZONE
BEGIN:VEVENT
DTSTART;VALUE=DATE:20190423
DTEND;VALUE=DATE:20190425
DTSTAMP:20260422T154524
CREATED:20190301T104407Z
LAST-MODIFIED:20190301T104407Z
UID:7202-1555977600-1556150399@coolmumsuperdad.com
SUMMARY:Persuade With Power @ Petronas Carigali
DESCRIPTION:Private event. A 2-day persuasive speaking workshop for Petronas Carigali employees only. \n			\n				\n				        															About \n					\n										  has written 119 articles. \n															 \n										\n						\n									View all posts by  →								\n						Blog\n												                                                					\n				\n			\n			Discuss your thoughts below! comments.
URL:https://coolmumsuperdad.com/event/persuade-with-power-petronas-carigali/
LOCATION:Kerteh Terengganu\, Malaysia
CATEGORIES:workshop
END:VEVENT
END:VCALENDAR