BEGIN:VCALENDAR
VERSION:2.0
PRODID:-//Cool Mum Super Dad - ECPv5.14.1//NONSGML v1.0//EN
CALSCALE:GREGORIAN
METHOD:PUBLISH
X-WR-CALNAME:Cool Mum Super Dad
X-ORIGINAL-URL:https://coolmumsuperdad.com
X-WR-CALDESC:Events for Cool Mum Super Dad
BEGIN:VTIMEZONE
TZID:Asia/Kuala_Lumpur
BEGIN:STANDARD
TZOFFSETFROM:+0800
TZOFFSETTO:+0800
TZNAME:+08
DTSTART:20190101T000000
END:STANDARD
END:VTIMEZONE
BEGIN:VEVENT
DTSTART;TZID=Asia/Kuala_Lumpur:20190414T150000
DTEND;TZID=Asia/Kuala_Lumpur:20190414T173000
DTSTAMP:20260422T215129
CREATED:20190329T003614Z
LAST-MODIFIED:20190329T025429Z
UID:7243-1555254000-1555263000@coolmumsuperdad.com
SUMMARY:Remaja & Gajet: Peranan Ibubapa
DESCRIPTION:This event is open to the public. \nEnquiries: +6019.305.5366 (Puan Farah). \nIsi utama: \n1.   kenali remaja anda \n2.   konflik ketagihan dan penggunaan gajet \n3.   potensi penyelesaian \n  \n			\n				\n				        															About \n					\n										  has written 119 articles. \n															 \n										\n						\n									View all posts by  →								\n						Blog\n												                                                					\n				\n			\n			Discuss your thoughts below! comments.
URL:https://coolmumsuperdad.com/event/remaja-gajet-peranan-ibubapa/
LOCATION:Khalifah Model School (Secondary)\, Sepang\, Malaysia
CATEGORIES:parenting,Teenagers
ATTACH;FMTTYPE=image/jpeg:https://www.coolmumsuperdad.com/wp-content/uploads/2019/03/IMG-20190325-WA0000.jpg
END:VEVENT
END:VCALENDAR