BEGIN:VCALENDAR
VERSION:2.0
PRODID:-//Cool Mum Super Dad - ECPv5.14.1//NONSGML v1.0//EN
CALSCALE:GREGORIAN
METHOD:PUBLISH
X-WR-CALNAME:Cool Mum Super Dad
X-ORIGINAL-URL:https://coolmumsuperdad.com
X-WR-CALDESC:Events for Cool Mum Super Dad
BEGIN:VTIMEZONE
TZID:Asia/Kuala_Lumpur
BEGIN:STANDARD
TZOFFSETFROM:+0800
TZOFFSETTO:+0800
TZNAME:+08
DTSTART:20200101T000000
END:STANDARD
END:VTIMEZONE
BEGIN:VEVENT
DTSTART;TZID=Asia/Kuala_Lumpur:20201109T100000
DTEND;TZID=Asia/Kuala_Lumpur:20201109T120000
DTSTAMP:20260422T011402
CREATED:20200922T042812Z
LAST-MODIFIED:20201016T015946Z
UID:7771-1604916000-1604923200@coolmumsuperdad.com
SUMMARY:StoryTelling for Parents: Making the Most of StoryTime
DESCRIPTION:About \n					\n										  has written 119 articles. \n															 \n										\n						\n									View all posts by  →								\n						Blog\n												                                                					\n				\n			\n			Discuss your thoughts below! comments.
URL:https://coolmumsuperdad.com/event/storytelling-for-parents-making-the-most-of-storytime/
CATEGORIES:parenting
END:VEVENT
END:VCALENDAR