BEGIN:VCALENDAR
VERSION:2.0
PRODID:-//Cool Mum Super Dad - ECPv5.14.1//NONSGML v1.0//EN
CALSCALE:GREGORIAN
METHOD:PUBLISH
X-WR-CALNAME:Cool Mum Super Dad
X-ORIGINAL-URL:https://coolmumsuperdad.com
X-WR-CALDESC:Events for Cool Mum Super Dad
BEGIN:VTIMEZONE
TZID:Asia/Kuala_Lumpur
BEGIN:STANDARD
TZOFFSETFROM:+0800
TZOFFSETTO:+0800
TZNAME:+08
DTSTART:20200101T000000
END:STANDARD
END:VTIMEZONE
BEGIN:VEVENT
DTSTART;TZID=Asia/Kuala_Lumpur:20201014T170000
DTEND;TZID=Asia/Kuala_Lumpur:20201014T210000
DTSTAMP:20260421T234129
CREATED:20200922T043413Z
LAST-MODIFIED:20200922T043413Z
UID:7775-1602694800-1602709200@coolmumsuperdad.com
SUMMARY:Successful Adulting Forum @ Segi College
DESCRIPTION:About \n					\n										  has written 119 articles. \n															 \n										\n						\n									View all posts by  →								\n						Blog\n												                                                					\n				\n			\n			Discuss your thoughts below! comments.
URL:https://coolmumsuperdad.com/event/successful-adulting-forum-segi-college/
CATEGORIES:Forum
END:VEVENT
END:VCALENDAR