BEGIN:VCALENDAR
VERSION:2.0
PRODID:-//Cool Mum Super Dad - ECPv5.14.1//NONSGML v1.0//EN
CALSCALE:GREGORIAN
METHOD:PUBLISH
X-WR-CALNAME:Cool Mum Super Dad
X-ORIGINAL-URL:https://coolmumsuperdad.com
X-WR-CALDESC:Events for Cool Mum Super Dad
BEGIN:VTIMEZONE
TZID:Asia/Kuala_Lumpur
BEGIN:STANDARD
TZOFFSETFROM:+0800
TZOFFSETTO:+0800
TZNAME:+08
DTSTART:20210101T000000
END:STANDARD
END:VTIMEZONE
BEGIN:VEVENT
DTSTART;TZID=Asia/Kuala_Lumpur:20210524T143000
DTEND;TZID=Asia/Kuala_Lumpur:20210524T160000
DTSTAMP:20260424T184028
CREATED:20210624T071020Z
LAST-MODIFIED:20210702T085459Z
UID:7985-1621866600-1621872000@coolmumsuperdad.com
SUMMARY:The Kindness Miracle
DESCRIPTION:By podcast\, organised by Shell SWAN Cyberjaya. \nThis is a private event. \n			\n				\n				        															About \n					\n										  has written 119 articles. \n															 \n										\n						\n									View all posts by  →								\n						Blog\n												                                                					\n				\n			\n			Discuss your thoughts below! comments.
URL:https://coolmumsuperdad.com/event/the-kindness-miracle/
CATEGORIES:marriage,Seminar
END:VEVENT
END:VCALENDAR