BEGIN:VCALENDAR
VERSION:2.0
PRODID:-//Cool Mum Super Dad - ECPv5.14.1//NONSGML v1.0//EN
CALSCALE:GREGORIAN
METHOD:PUBLISH
X-WR-CALNAME:Cool Mum Super Dad
X-ORIGINAL-URL:https://coolmumsuperdad.com
X-WR-CALDESC:Events for Cool Mum Super Dad
BEGIN:VTIMEZONE
TZID:Asia/Kuala_Lumpur
BEGIN:STANDARD
TZOFFSETFROM:+0800
TZOFFSETTO:+0800
TZNAME:+08
DTSTART:20190101T000000
END:STANDARD
END:VTIMEZONE
BEGIN:VEVENT
DTSTART;TZID=Asia/Kuala_Lumpur:20190315T100000
DTEND;TZID=Asia/Kuala_Lumpur:20190315T110000
DTSTAMP:20260423T054928
CREATED:20190301T050102Z
LAST-MODIFIED:20190301T053750Z
UID:7137-1552644000-1552647600@coolmumsuperdad.com
SUMMARY:Raising World Citizens @ UniRazak KL
DESCRIPTION:  \nTitle: Raising World Citizens: Snapshots From Different Countries \nOpen to the public. \nFriday 15th March 2019. \n10am – 11am. \nLevel 9\, UNIRAZAK\, \nJalan Tun Razak\, \nKuala Lumpur. \nSession is in conjunction with World Speech Day. \n			\n				\n				        															About \n					\n										  has written 119 articles. \n															 \n										\n						\n									View all posts by  →								\n						Blog\n												                                                					\n				\n			\n			Discuss your thoughts below! comments.
URL:https://coolmumsuperdad.com/event/world-speech-day-unitar/
LOCATION:UniRazak\, Kuala Lumpur
CATEGORIES:keibubapaan,parenting,Teenagers,workshop
ATTACH;FMTTYPE=image/jpeg:https://www.coolmumsuperdad.com/wp-content/uploads/2019/03/IMG-20190127-WA0011.jpg
END:VEVENT
END:VCALENDAR